BEGIN:VCALENDAR
VERSION:2.0
PRODID:-//Temple Israel of Deland - ECPv6.15.20//NONSGML v1.0//EN
CALSCALE:GREGORIAN
METHOD:PUBLISH
X-ORIGINAL-URL:https://templeisraelofdeland.org
X-WR-CALDESC:Events for Temple Israel of Deland
REFRESH-INTERVAL;VALUE=DURATION:PT1H
X-Robots-Tag:noindex
X-PUBLISHED-TTL:PT1H
BEGIN:VTIMEZONE
TZID:America/New_York
BEGIN:DAYLIGHT
TZOFFSETFROM:-0500
TZOFFSETTO:-0400
TZNAME:EDT
DTSTART:20250309T070000
END:DAYLIGHT
BEGIN:STANDARD
TZOFFSETFROM:-0400
TZOFFSETTO:-0500
TZNAME:EST
DTSTART:20251102T060000
END:STANDARD
BEGIN:DAYLIGHT
TZOFFSETFROM:-0500
TZOFFSETTO:-0400
TZNAME:EDT
DTSTART:20260308T070000
END:DAYLIGHT
BEGIN:STANDARD
TZOFFSETFROM:-0400
TZOFFSETTO:-0500
TZNAME:EST
DTSTART:20261101T060000
END:STANDARD
BEGIN:DAYLIGHT
TZOFFSETFROM:-0500
TZOFFSETTO:-0400
TZNAME:EDT
DTSTART:20270314T070000
END:DAYLIGHT
BEGIN:STANDARD
TZOFFSETFROM:-0400
TZOFFSETTO:-0500
TZNAME:EST
DTSTART:20271107T060000
END:STANDARD
END:VTIMEZONE
BEGIN:VEVENT
DTSTART;TZID=America/New_York:20260104T130000
DTEND;TZID=America/New_York:20260104T160000
DTSTAMP:20260421T102621
CREATED:20251109T180648Z
LAST-MODIFIED:20251223T020649Z
UID:4222-1767531600-1767542400@templeisraelofdeland.org
SUMMARY:CPR and First Aide Class- January 4th
DESCRIPTION:Due to unforeseen circumstances\, the instructor\, Susie Sievert\, needed to reschedule. She apologies for this change. \nnew date: Sunday\, Nov 16th from 1-4pm \nCost: $20; if paying by check please make it out to TIOD Sisterhood. \nplease RSVP on or before Friday Nov. 14th.\nif you’re unsure if you can attend\, then please email sisterhood or text Stephanie if ur a maybe. Another class will be offered in January. \nSusie is an experienced\, passionate and enthusiastic certified EMT and CPR instructor and owner of Be A Hero-First Aid. we hope many of you will be able to attend one of her classes! \n 
URL:https://templeisraelofdeland.org/event/cpr-and-first-aide-class-new-date/
LOCATION:Temple Israel of DeLand
CATEGORIES:Brotherhood Events,Sisterhood Events,Temple Events
END:VEVENT
BEGIN:VEVENT
DTSTART;TZID=America/New_York:20260105T183000
DTEND;TZID=America/New_York:20260105T203000
DTSTAMP:20260421T102621
CREATED:20251203T194123Z
LAST-MODIFIED:20251203T194123Z
UID:4357-1767637800-1767645000@templeisraelofdeland.org
SUMMARY:January Book Club
DESCRIPTION:The Briar Club – by Kate Quinn \nMonday\, Jan 5th @ 6:30pm schmooze; discussion at 7pm \nPlease rsvp
URL:https://templeisraelofdeland.org/event/january-book-club-2/
LOCATION:Temple Israel of DeLand
CATEGORIES:Sisterhood Events,Temple Events
END:VEVENT
BEGIN:VEVENT
DTSTART;TZID=America/New_York:20260112T180000
DTEND;TZID=America/New_York:20260112T203000
DTSTAMP:20260421T102621
CREATED:20251223T020159Z
LAST-MODIFIED:20251223T020159Z
UID:4532-1768240800-1768249800@templeisraelofdeland.org
SUMMARY:Sisterhood annual meeting and dinner
DESCRIPTION:Please join us at 6  pm at TIOD for our annual meeting. Dinner will be provided by sisterhood but donations are always welcome. Please bring cash or check to pay your 2026 dues \n$36 for temple members and $54 for non-members. THANKS \nPlease bring your ideas and enthusiasm we can’t wait to see everyone. \n 
URL:https://templeisraelofdeland.org/event/sisterhood-annual-meeting-and-dinner/
LOCATION:Temple Israel of DeLand
CATEGORIES:Sisterhood Events,Temple Events
END:VEVENT
BEGIN:VEVENT
DTSTART;TZID=America/New_York:20260113T190000
DTEND;TZID=America/New_York:20260113T203000
DTSTAMP:20260421T102621
CREATED:20260104T202554Z
LAST-MODIFIED:20260104T202554Z
UID:4600-1768330800-1768336200@templeisraelofdeland.org
SUMMARY:Board Meeting-1/13 7:00-
DESCRIPTION:In person will be at the Temple and also on Zoom (link provided in newsletter) \nAnyone who would like to bring up a discussion has until January 5th to submit request. You will have 3 minutes to speak. \nThank you\, \nHowie
URL:https://templeisraelofdeland.org/event/board-meeting-1-13-700/
LOCATION:Temple Israel of DeLand
END:VEVENT
BEGIN:VEVENT
DTSTART;TZID=America/New_York:20260116T190000
DTEND;TZID=America/New_York:20260116T203000
DTSTAMP:20260421T102621
CREATED:20251203T194602Z
LAST-MODIFIED:20251203T194602Z
UID:4360-1768590000-1768595400@templeisraelofdeland.org
SUMMARY:Women of Valor - Shabbat Service
DESCRIPTION:Date: Friday\, January 16th @ 7pm \nPlease join us for a wonderful service led by Rabbi Audrey with Cantor Nina to honor the many women of our Temple. \nRSVP preferred (for women) – as we would like to have as many women participate as possible. (RSVP preferred by Jan 13th help us plan- ty) \nTodah Rabah
URL:https://templeisraelofdeland.org/event/women-of-valor-shabbat-service/
LOCATION:Temple Israel of DeLand
CATEGORIES:Brotherhood Events,Sisterhood Events,Temple Events
END:VEVENT
BEGIN:VEVENT
DTSTART;TZID=America/New_York:20260120T100000
DTEND;TZID=America/New_York:20260120T113000
DTSTAMP:20260421T102621
CREATED:20260104T200220Z
LAST-MODIFIED:20260104T200220Z
UID:4592-1768903200-1768908600@templeisraelofdeland.org
SUMMARY:Beginner Torah Study-Led by Marsha Palitz
DESCRIPTION:Marsha Palitz will be leading this class at her home on January 20th. There will be limited seating\, so first come first serve. Please sign up by Friday\, January 16th. Time is from 10:00-11:30am. \nPlease reach out to Marsha with any questions. \nThanks\,
URL:https://templeisraelofdeland.org/event/beginner-torah-study-led-by-marsha-palitz/
LOCATION:Home of Marsha Palitz
END:VEVENT
BEGIN:VEVENT
DTSTART;TZID=America/New_York:20260121T100000
DTEND;TZID=America/New_York:20260121T113000
DTSTAMP:20260421T102621
CREATED:20260113T210849Z
LAST-MODIFIED:20260113T210849Z
UID:4642-1768989600-1768995000@templeisraelofdeland.org
SUMMARY:TIOD EDUCATIONAL PROGRAMMING-WED\, JAN. 21ST FROM 10-11:30
DESCRIPTION:Please join us for the first educational programming class outside of the Temple. We have partnered with the Victoria Gardens Lifestyle team to have a VG & Temple Israel members Educational Class. \nThe class will be lead by Rabbi Audrey and the topic is Shabbat & Havdalah services. We will also be making our own spice bags. If you reside outside of VG\, you will be put on the guest list at Main Gate off of Orange Camp. We cannot accommodate any outside guests other than Temple members.
URL:https://templeisraelofdeland.org/event/tiod-educational-programming-wed-jan-21st-from-10-1130/
LOCATION:Victoria Gardens Clubhouse MPR2
END:VEVENT
BEGIN:VEVENT
DTSTART;TZID=America/New_York:20260127T100000
DTEND;TZID=America/New_York:20260127T113000
DTSTAMP:20260421T102621
CREATED:20260104T200712Z
LAST-MODIFIED:20260104T200712Z
UID:4597-1769508000-1769513400@templeisraelofdeland.org
SUMMARY:Beginner Torah Study-Led by Marsha Palitz
DESCRIPTION:Beginner Torah Study class on Tuesday\, January 27th @ 10:00-11:30 am. Seating is limited\, so please sign up quickly. \nPlease reach out to Marsha w/ any questions. \nThanks\,
URL:https://templeisraelofdeland.org/event/beginner-torah-study-led-by-marsha-palitz-2/
LOCATION:Home of Marsha Palitz
END:VEVENT
BEGIN:VEVENT
DTSTART;TZID=America/New_York:20260130T190000
DTEND;TZID=America/New_York:20260130T210000
DTSTAMP:20260421T102621
CREATED:20260118T212734Z
LAST-MODIFIED:20260129T040025Z
UID:4677-1769799600-1769806800@templeisraelofdeland.org
SUMMARY:JEWISH FEDERATION ANNUAL COMMUNITY-WIDE SHABBAT SERVICE
DESCRIPTION:When-1/30 @ 7:00 pm. \nWhere-Temple Beth-El\, (579 North Nova Rd\, Ormond Beach) \nAll Temples will be sponsoring portions of the event. As a congregation\, we have never made a big presence at this event. Our Temple will still be closed\, so this is a great opportunity to support our Temple along with meeting fellow congregants from other Temples. \nPlease RSVP\, so we can get an idea of who would like to go and then we can organize some car pools. \nThanks\, \nHowie
URL:https://templeisraelofdeland.org/event/jewish-federation-annual-community-wide-shabbat-service/
LOCATION:Temple Beth-El\, Ormond  Beach\, 579 North Nova Rd\, Ormond Beach
END:VEVENT
END:VCALENDAR