BEGIN:VCALENDAR
VERSION:2.0
PRODID:-//Temple Israel of Deland - ECPv6.15.20//NONSGML v1.0//EN
CALSCALE:GREGORIAN
METHOD:PUBLISH
X-WR-CALNAME:Temple Israel of Deland
X-ORIGINAL-URL:https://templeisraelofdeland.org
X-WR-CALDESC:Events for Temple Israel of Deland
REFRESH-INTERVAL;VALUE=DURATION:PT1H
X-Robots-Tag:noindex
X-PUBLISHED-TTL:PT1H
BEGIN:VTIMEZONE
TZID:America/New_York
BEGIN:DAYLIGHT
TZOFFSETFROM:-0500
TZOFFSETTO:-0400
TZNAME:EDT
DTSTART:20250309T070000
END:DAYLIGHT
BEGIN:STANDARD
TZOFFSETFROM:-0400
TZOFFSETTO:-0500
TZNAME:EST
DTSTART:20251102T060000
END:STANDARD
BEGIN:DAYLIGHT
TZOFFSETFROM:-0500
TZOFFSETTO:-0400
TZNAME:EDT
DTSTART:20260308T070000
END:DAYLIGHT
BEGIN:STANDARD
TZOFFSETFROM:-0400
TZOFFSETTO:-0500
TZNAME:EST
DTSTART:20261101T060000
END:STANDARD
BEGIN:DAYLIGHT
TZOFFSETFROM:-0500
TZOFFSETTO:-0400
TZNAME:EDT
DTSTART:20270314T070000
END:DAYLIGHT
BEGIN:STANDARD
TZOFFSETFROM:-0400
TZOFFSETTO:-0500
TZNAME:EST
DTSTART:20271107T060000
END:STANDARD
END:VTIMEZONE
BEGIN:VEVENT
DTSTART;TZID=America/New_York:20260104T130000
DTEND;TZID=America/New_York:20260104T160000
DTSTAMP:20260419T113026
CREATED:20251109T180648Z
LAST-MODIFIED:20251223T020649Z
UID:4222-1767531600-1767542400@templeisraelofdeland.org
SUMMARY:CPR and First Aide Class- January 4th
DESCRIPTION:Due to unforeseen circumstances\, the instructor\, Susie Sievert\, needed to reschedule. She apologies for this change. \nnew date: Sunday\, Nov 16th from 1-4pm \nCost: $20; if paying by check please make it out to TIOD Sisterhood. \nplease RSVP on or before Friday Nov. 14th.\nif you’re unsure if you can attend\, then please email sisterhood or text Stephanie if ur a maybe. Another class will be offered in January. \nSusie is an experienced\, passionate and enthusiastic certified EMT and CPR instructor and owner of Be A Hero-First Aid. we hope many of you will be able to attend one of her classes! \n 
URL:https://templeisraelofdeland.org/event/cpr-and-first-aide-class-new-date/
LOCATION:Temple Israel of DeLand
CATEGORIES:Brotherhood Events,Sisterhood Events,Temple Events
END:VEVENT
END:VCALENDAR