BEGIN:VCALENDAR
VERSION:2.0
PRODID:-//Temple Israel of Deland - ECPv6.15.20//NONSGML v1.0//EN
CALSCALE:GREGORIAN
METHOD:PUBLISH
X-WR-CALNAME:Temple Israel of Deland
X-ORIGINAL-URL:https://templeisraelofdeland.org
X-WR-CALDESC:Events for Temple Israel of Deland
REFRESH-INTERVAL;VALUE=DURATION:PT1H
X-Robots-Tag:noindex
X-PUBLISHED-TTL:PT1H
BEGIN:VTIMEZONE
TZID:America/New_York
BEGIN:DAYLIGHT
TZOFFSETFROM:-0500
TZOFFSETTO:-0400
TZNAME:EDT
DTSTART:20240310T070000
END:DAYLIGHT
BEGIN:STANDARD
TZOFFSETFROM:-0400
TZOFFSETTO:-0500
TZNAME:EST
DTSTART:20241103T060000
END:STANDARD
BEGIN:DAYLIGHT
TZOFFSETFROM:-0500
TZOFFSETTO:-0400
TZNAME:EDT
DTSTART:20250309T070000
END:DAYLIGHT
BEGIN:STANDARD
TZOFFSETFROM:-0400
TZOFFSETTO:-0500
TZNAME:EST
DTSTART:20251102T060000
END:STANDARD
BEGIN:DAYLIGHT
TZOFFSETFROM:-0500
TZOFFSETTO:-0400
TZNAME:EDT
DTSTART:20260308T070000
END:DAYLIGHT
BEGIN:STANDARD
TZOFFSETFROM:-0400
TZOFFSETTO:-0500
TZNAME:EST
DTSTART:20261101T060000
END:STANDARD
END:VTIMEZONE
BEGIN:VEVENT
DTSTART;TZID=America/New_York:20251119T130000
DTEND;TZID=America/New_York:20251119T150000
DTSTAMP:20260419T142418
CREATED:20251019T201310Z
LAST-MODIFIED:20251120T011125Z
UID:4131-1763557200-1763564400@templeisraelofdeland.org
SUMMARY:Nosh & Learn - Women in the Bible Series Part 2
DESCRIPTION:Hi Sistas (and Brothers!)\, \nWe are looking forward to the first Women in the Bible series on Nov. 5th – Rabbi Audrey will talk about our Matriarchs – “everything we wanted to know…” lol (well some things we can only speculate!). \nJoin us for Part 2 of the series for other Women in the Bible of importance who made an impact – stayed tuned!! \nAll GENDERS Are Welcomed! \nCost: TIOD Members – No Charge/Free\n           Sisterhood members (who are Not also Temple members) – $5 per class\n           Guests with No affiliation with TIOD And Sisterhood – $15 per class \nPlease RSVP! \n 
URL:https://templeisraelofdeland.org/event/nosh-learn-women-in-the-bible-series-part-2/
LOCATION:Temple Israel of DeLand
CATEGORIES:Sisterhood Events,Temple Events
END:VEVENT
END:VCALENDAR