BEGIN:VCALENDAR
VERSION:2.0
PRODID:-//Temple Israel of Deland - ECPv6.15.20//NONSGML v1.0//EN
CALSCALE:GREGORIAN
METHOD:PUBLISH
X-WR-CALNAME:Temple Israel of Deland
X-ORIGINAL-URL:https://templeisraelofdeland.org
X-WR-CALDESC:Events for Temple Israel of Deland
REFRESH-INTERVAL;VALUE=DURATION:PT1H
X-Robots-Tag:noindex
X-PUBLISHED-TTL:PT1H
BEGIN:VTIMEZONE
TZID:America/New_York
BEGIN:DAYLIGHT
TZOFFSETFROM:-0500
TZOFFSETTO:-0400
TZNAME:EDT
DTSTART:20240310T070000
END:DAYLIGHT
BEGIN:STANDARD
TZOFFSETFROM:-0400
TZOFFSETTO:-0500
TZNAME:EST
DTSTART:20241103T060000
END:STANDARD
BEGIN:DAYLIGHT
TZOFFSETFROM:-0500
TZOFFSETTO:-0400
TZNAME:EDT
DTSTART:20250309T070000
END:DAYLIGHT
BEGIN:STANDARD
TZOFFSETFROM:-0400
TZOFFSETTO:-0500
TZNAME:EST
DTSTART:20251102T060000
END:STANDARD
BEGIN:DAYLIGHT
TZOFFSETFROM:-0500
TZOFFSETTO:-0400
TZNAME:EDT
DTSTART:20260308T070000
END:DAYLIGHT
BEGIN:STANDARD
TZOFFSETFROM:-0400
TZOFFSETTO:-0500
TZNAME:EST
DTSTART:20261101T060000
END:STANDARD
END:VTIMEZONE
BEGIN:VEVENT
DTSTART;TZID=America/New_York:20251103T183000
DTEND;TZID=America/New_York:20251103T203000
DTSTAMP:20260419T142417
CREATED:20250913T131420Z
LAST-MODIFIED:20251001T124950Z
UID:3940-1762194600-1762201800@templeisraelofdeland.org
SUMMARY:November Book Club (Formerly Oct. Book Club)
DESCRIPTION:Book: The Wedding People by Alison Espach \nHome of Michelle Sallerson (Eggleston Drive in the Gardens- 1146 Eggleston Drive) \nDate: Monday\, November 3rd \nKibbitz – 6:30pm\, Discussion -7pm \nPlease RSVP – Anyone outside the Garden will need a QR code to get into the development
URL:https://templeisraelofdeland.org/event/october-book-club/
LOCATION:Home of Michelle Sallerson\, Eggleston Drive\, DeLand\, FL\, 32724\, United States
CATEGORIES:Sisterhood Events,Temple Events
END:VEVENT
END:VCALENDAR