BEGIN:VCALENDAR
VERSION:2.0
PRODID:-//Temple Israel of Deland - ECPv6.15.20//NONSGML v1.0//EN
CALSCALE:GREGORIAN
METHOD:PUBLISH
X-WR-CALNAME:Temple Israel of Deland
X-ORIGINAL-URL:https://templeisraelofdeland.org
X-WR-CALDESC:Events for Temple Israel of Deland
REFRESH-INTERVAL;VALUE=DURATION:PT1H
X-Robots-Tag:noindex
X-PUBLISHED-TTL:PT1H
BEGIN:VTIMEZONE
TZID:America/New_York
BEGIN:DAYLIGHT
TZOFFSETFROM:-0500
TZOFFSETTO:-0400
TZNAME:EDT
DTSTART:20240310T070000
END:DAYLIGHT
BEGIN:STANDARD
TZOFFSETFROM:-0400
TZOFFSETTO:-0500
TZNAME:EST
DTSTART:20241103T060000
END:STANDARD
BEGIN:DAYLIGHT
TZOFFSETFROM:-0500
TZOFFSETTO:-0400
TZNAME:EDT
DTSTART:20250309T070000
END:DAYLIGHT
BEGIN:STANDARD
TZOFFSETFROM:-0400
TZOFFSETTO:-0500
TZNAME:EST
DTSTART:20251102T060000
END:STANDARD
BEGIN:DAYLIGHT
TZOFFSETFROM:-0500
TZOFFSETTO:-0400
TZNAME:EDT
DTSTART:20260308T070000
END:DAYLIGHT
BEGIN:STANDARD
TZOFFSETFROM:-0400
TZOFFSETTO:-0500
TZNAME:EST
DTSTART:20261101T060000
END:STANDARD
END:VTIMEZONE
BEGIN:VEVENT
DTSTART;TZID=America/New_York:20251031T180000
DTEND;TZID=America/New_York:20251031T200000
DTSTAMP:20260419T144104
CREATED:20251017T174436Z
LAST-MODIFIED:20251021T224903Z
UID:4106-1761933600-1761940800@templeisraelofdeland.org
SUMMARY:Pot Luck Shabbat Dinner October 31\, Friday
DESCRIPTION:Please join us for a potluck shabbat dinner. No services tonight but we want to welcome the sabbath together. Register for a dish to share\, BYOB if you want. This will be kosher style – since some chicken dishes\, please no dairy products. Thanks! \n6 Pm Friday October 31. RSVP is a must!!! Temple will provide the challah\, shabbat candle lightings and all paper goods. \nPlease copy and paste the link below into your browser in order to sign up. (apologies there is presently a glitch\, hence why you just can’t click on it) \nhttps://www.signupgenius.com/go/8050b4aaba72ba54a7-59682946-potluck \nPlease bring your dish ready to serve. \nTodah rabah\, \nLorin and Steph \n 
URL:https://templeisraelofdeland.org/event/pot-luck-shabbat-dinner-october-31-friday/
LOCATION:Temple Israel of DeLand
CATEGORIES:Brotherhood Events,Sisterhood Events,Temple Events
END:VEVENT
END:VCALENDAR